BEGIN:VCALENDAR
VERSION:2.0
PRODID:-//ChamberMaster//Event Calendar 2.0//EN
METHOD:PUBLISH
X-PUBLISHED-TTL:P1H
REFRESH-INTERVAL:P1H
CALSCALE:GREGORIAN
BEGIN:VTIMEZONE
TZID:America/New_York
BEGIN:DAYLIGHT
RRULE:FREQ=YEARLY;BYMONTH=3;BYDAY=2SU
DTSTART:20070101T000000
TZOFFSETFROM:-0500
TZOFFSETTO:-0400
TZNAME:Eastern Daylight Time
END:DAYLIGHT
BEGIN:STANDARD
RRULE:FREQ=YEARLY;BYMONTH=11;BYDAY=1SU
DTSTART:20070101T000000
TZOFFSETFROM:-0400
TZOFFSETTO:-0500
TZNAME:Eastern Standard Time
END:STANDARD
END:VTIMEZONE
BEGIN:VEVENT
DTSTART;TZID=America/New_York:20260422T100000
DTEND;TZID=America/New_York:20260422T120000
X-MICROSOFT-CDO-ALLDAYEVENT:FALSE
SUMMARY:Rutherford Outdoor Coalition - Earth Day Extravaganza
DESCRIPTION:See the flyer below! Register here: https://givebutter.com/roc-earth-day-extravaganza
X-ALT-DESC;FMTTYPE=text/html:See the flyer below! Register here: https://givebutter.com/roc-earth-day-extravaganza
LOCATION:115 N Oak Street Spindale NC 28160
UID:e.2887.1446549
SEQUENCE:3
DTSTAMP:20260423T125308Z
URL:https://business.rutherfordcoc.org/eventcalendar/Details/rutherford-outdoor-coalition-earth-day-extravaganza-1713324?sourceTypeId=Hub
END:VEVENT
END:VCALENDAR
