BEGIN:VCALENDAR
VERSION:2.0
PRODID:-//ChamberMaster//Event Calendar 2.0//EN
METHOD:PUBLISH
X-PUBLISHED-TTL:P1H
REFRESH-INTERVAL:P1H
CALSCALE:GREGORIAN
BEGIN:VTIMEZONE
TZID:America/New_York
BEGIN:DAYLIGHT
RRULE:FREQ=YEARLY;BYMONTH=3;BYDAY=2SU
DTSTART:20070101T000000
TZOFFSETFROM:-0500
TZOFFSETTO:-0400
TZNAME:Eastern Daylight Time
END:DAYLIGHT
BEGIN:STANDARD
RRULE:FREQ=YEARLY;BYMONTH=11;BYDAY=1SU
DTSTART:20070101T000000
TZOFFSETFROM:-0400
TZOFFSETTO:-0500
TZNAME:Eastern Standard Time
END:STANDARD
END:VTIMEZONE
BEGIN:VEVENT
DTSTART;TZID=America/New_York:20260527T120000
DTEND;TZID=America/New_York:20260527T130000
X-MICROSOFT-CDO-ALLDAYEVENT:FALSE
SUMMARY:May Lunch & Learn: Comprehensive\, Sustainable\, & Safe Waste & Recycling Solutions
DESCRIPTION:Comprehensive\, Sustainable\, & Safe Waste & Recycling Solutions\nJoin us for a Lunch & Learn with Carolina Waste Group to explore comprehensive waste and recycling solutions that help businesses improve efficiency\, reduce costs\, and achieve sustainability goals. We'll cover customized service programs\, equipment options\, and strategies for landfill diversion all designed to simplify operations with a single-source provider.\nLearn more about our services at www.carolinawastegroup.com.
X-ALT-DESC;FMTTYPE=text/html:<!DOCTYPE html><html><head><title></title></head><body aria-disabled="false"><p>Comprehensive\, Sustainable\, &amp\; Safe Waste &amp\; Recycling Solutions</p><p><br></p><p>Join us for a Lunch &amp\; Learn with Carolina Waste Group to explore comprehensive waste and recycling solutions that help businesses improve efficiency\, reduce costs\, and achieve sustainability goals. We&rsquo\;ll cover customized service programs\, equipment options\, and strategies for landfill diversion&mdash\;all designed to simplify operations with a single-source provider.</p><p><br></p><p>Learn more about our services at www.carolinawastegroup.com.</p></body></html>
LOCATION:108 East Main St Forest City 28043
UID:e.2887.1446484
SEQUENCE:3
DTSTAMP:20260423T124957Z
URL:https://business.rutherfordcoc.org/eventcalendar/Details/may-lunch-learn-comprehensive-sustainable-safe-waste-recycling-solutions-1713213?sourceTypeId=Hub
END:VEVENT
END:VCALENDAR
