BEGIN:VCALENDAR
VERSION:2.0
PRODID:-//ChamberMaster//Event Calendar 2.0//EN
METHOD:PUBLISH
X-PUBLISHED-TTL:P1H
REFRESH-INTERVAL:P1H
CALSCALE:GREGORIAN
BEGIN:VTIMEZONE
TZID:America/New_York
BEGIN:DAYLIGHT
RRULE:FREQ=YEARLY;BYMONTH=3;BYDAY=2SU
DTSTART:20070101T000000
TZOFFSETFROM:-0500
TZOFFSETTO:-0400
TZNAME:Eastern Daylight Time
END:DAYLIGHT
BEGIN:STANDARD
RRULE:FREQ=YEARLY;BYMONTH=11;BYDAY=1SU
DTSTART:20070101T000000
TZOFFSETFROM:-0400
TZOFFSETTO:-0500
TZNAME:Eastern Standard Time
END:STANDARD
END:VTIMEZONE
BEGIN:VEVENT
DTSTART;TZID=America/New_York:20260514T080000
DTEND;TZID=America/New_York:20260514T093000
X-MICROSOFT-CDO-ALLDAYEVENT:FALSE
SUMMARY:2nd Quarter Chamber Member Breakfast
DESCRIPTION:Join us for the Rutherford County Chamber of Commerce’s Quarterly Membership Breakfast—an energizing before-hours networking opportunity designed exclusively for our members. Held once each quarter from 8:00–9:30 AM\, this event brings local professionals together to build connections\, share ideas\, and strengthen relationships within our business community. Proudly sponsored by Copper Penny Grill\, the breakfast offers great food\, meaningful networking\, and valuable insights. Attendees will also learn how to better maximize their Chamber membership benefits and stay informed on the latest Chamber news\, events\, and initiatives. Start your morning with purpose\, connection\, and community—this is one membership benefit you won’t want to miss.
X-ALT-DESC;FMTTYPE=text/html:Join us for the Rutherford County Chamber of Commerce’s Quarterly Membership Breakfast—an energizing before-hours networking opportunity designed exclusively for our members. Held once each quarter from 8:00–9:30 AM\, this event brings local professionals together to build connections\, share ideas\, and strengthen relationships within our business community. Proudly sponsored by Copper Penny Grill\, the breakfast offers great food\, meaningful networking\, and valuable insights. Attendees will also learn how to better maximize their Chamber membership benefits and stay informed on the latest Chamber news\, events\, and initiatives. Start your morning with purpose\, connection\, and community—this is one membership benefit you won’t want to miss.
LOCATION:146 E Main St Forest City NC 28043
UID:e.2887.1446493
SEQUENCE:3
DTSTAMP:20260423T124822Z
URL:https://business.rutherfordcoc.org/eventcalendar/Details/2nd-quarter-chamber-member-breakfast-1713222?sourceTypeId=Hub
END:VEVENT
END:VCALENDAR
